BEGIN:VCALENDAR
PRODID:NingEventWidget-v1
VERSION:2.0
METHOD:PUBLISH
BEGIN:VTIMEZONE
TZID:Europe/Brussels
X-LIC-LOCATION:Europe/Brussels
BEGIN:DAYLIGHT
TZOFFSETFROM:+0100
TZOFFSETTO:+0200
TZNAME:CEST
DTSTART:19700329T020000
RRULE:FREQ=YEARLY;BYMONTH=3;BYDAY=-1SU
END:DAYLIGHT
BEGIN:STANDARD
TZOFFSETFROM:+0200
TZOFFSETTO:+0100
TZNAME:CET
DTSTART:19701025T030000
RRULE:FREQ=YEARLY;BYMONTH=10;BYDAY=-1SU
END:STANDARD
END:VTIMEZONE
BEGIN:VEVENT
UID:2672907:Event:219045
DTSTAMP:20260424T153309Z
SUMMARY:Farmer Agency for Rural Economies [French]
DESCRIPTION:Orange Knowledge Programme / MENA Scholarships available\n
 Deadline 28 September 2021\nThis course aims to include farmers and th
 eir organizations in agro-economic development. Farmer entrepreneurshi
 p, farmers’ collective action and multi-actor collaboration are the 
 key words. You will take home many practical tools and approaches for 
 promoting farmer entrepreneurship and strengthening farmers’ organiz
 ations. Join the course and change the position of agricultural produc
 ers in rural economies!\n\nFor more information visit https://km4dev.n
 ing.com/events/farmer-agency-for-rural-economies-french
DTSTART;TZID=Europe/Brussels:20220502T000000
DTEND;TZID=Europe/Brussels:20220715T235900
CATEGORIES:course, online
LOCATION:Online
WEBSITE:
URL:
CONTACT:
ORGANIZER:Wageningen Centre for Development Innovation
ATTACH;FMTTYPE="image/jpeg":
ATTENDEE;ROLE=REQ-PARTICIPANT;PARTSTAT=ACCEPTED;RSVP=TRUE;CN="DADJOSSI
 ME Raphaël":https://km4dev.ning.com/profile/DADJOSSIMERaphael
ATTENDEE;ROLE=REQ-PARTICIPANT;PARTSTAT=ACCEPTED;RSVP=TRUE;CN="Irene WC
 DI":https://km4dev.ning.com/profile/IreneStapensea
END:VEVENT
END:VCALENDAR
